BEGIN:VCALENDAR
VERSION:2.0
PRODID:-//ChamberMaster//Event Calendar 2.0//EN
METHOD:PUBLISH
X-PUBLISHED-TTL:P3D
REFRESH-INTERVAL:P3D
CALSCALE:GREGORIAN
BEGIN:VEVENT
DTSTART:20240404T153000Z
DTEND:20240404T173000Z
X-MICROSOFT-CDO-ALLDAYEVENT:FALSE
SUMMARY:Topical Luncheon: MOTION TO ADJOURN: 2024 LEGISLATIVE SESSION RECAP 4/4/2024
DESCRIPTION:Join us for the Motion to Adjourn: 2024 Legislative Session Recap.  This event will provide updates from the legislative session and how it will impact the future of West Orange County from the Central Florida Delegation. \n\n\n\nGuest Panelist\n\nSenator Dennis Baxley - District 13\n\n\n\nRepresentative Carolina Amesty District 45\n\nRepresentative Bruce Antone\, District 41\n\nRepresentative Douglas Bankson District 39\n\nRepresentative Lavon Bracy Davis District 40\n\nRepresentative Jennifer "Rita" Harris District 44
X-ALT-DESC;FMTTYPE=text/html:<br />\n<span style="font-size:16px\;">Join us for the Motion to Adjourn: 2024 Legislative Session Recap.&nbsp\; This event will provide updates from the legislative session and how it will impact the future of West Orange County from the Central Florida Delegation.&nbsp\;<br />\n<br />\nGuest Panelist<br />\nSenator Dennis Baxley - District 13<br />\n<br />\nRepresentative Carolina Amesty District 45<br />\nRepresentative Bruce Antone\, District 41<br />\nRepresentative Douglas Bankson District 39<br />\nRepresentative Lavon Bracy Davis District 40<br />\nRepresentative Jennifer &quot\;Rita&quot\; Harris District 44</span><br />\n<br />\n<br />\n<br />\n<br />\n<br />\n<br />\n&nbsp\;
LOCATION:Ocoee Lakeshore Event Center 125 N Lakeshore Drive Ocoee\, FL 34761
UID:e.747.2775
SEQUENCE:3
DTSTAMP:20260423T162531Z
URL:https://biz.wochamber.com/events/details/topical-luncheon-motion-to-adjourn-2024-legislative-session-recap-4-4-2024-2775
END:VEVENT

END:VCALENDAR
