BEGIN:VCALENDAR
VERSION:2.0
PRODID:-//ChamberMaster//Event Calendar 2.0//EN
METHOD:PUBLISH
X-PUBLISHED-TTL:P3D
REFRESH-INTERVAL:P3D
CALSCALE:GREGORIAN
BEGIN:VEVENT
DTSTART:20210909T153000Z
DTEND:20210909T173000Z
X-MICROSOFT-CDO-ALLDAYEVENT:FALSE
SUMMARY:Horizon West Report 9/9/21
DESCRIPTION:Join us to learn about one of the fastest-growing areas in Florida. The Horizon West Report will feature experts who will provide insight into this area and how it can benefit your business. Register now to take full advantage of this opportunity to put you and your company at the forefront of one of the most influential and largest developments in Florida\n\n\n\nPanelist:\n\nOCPS Board Member Pamela Gould\n\nKen Kupp\, Partner at Boyd Development \n\nOC Property Appraiser Amy Mercado\n\nOC Assistant County Administrator Chris Testerman\n\n\n\nModerator:\n\nOC Commissioner Nicole Wilson \n\n\n\n\n\nWest Orange Chamber of Commerce will adhere to CDC guidelines to deliver a safe event. Face masks must be worn while not actively eating or drinking. Socially distancing seating will be provided\; six guests per table. Sanitation stations throughout the event.
X-ALT-DESC;FMTTYPE=text/html:<span style="font-family:arial\;"><span style="font-size:14px\;"><span style="color: rgb(68\, 68\, 68)\; text-align: center\;">Join us to learn about one of the fastest-growing areas in Florida. The Horizon West Report will feature experts who will provide insight into this area and how it can benefit your business. Register now to take full advantage of this opportunity to put you and your company at the forefront of one of the most&nbsp\;</span><strong style="color: rgb(68\, 68\, 68)\; font-family: proxima-nova-n4\, proxima-nova\, &quot\;Helvetica Neue&quot\;\, Helvetica\, Arial\, sans-serif\; font-size: 16px\; text-align: center\;">influential</strong><span style="color: rgb(68\, 68\, 68)\; text-align: center\;">&nbsp\;and&nbsp\;</span><strong style="color: rgb(68\, 68\, 68)\; font-family: proxima-nova-n4\, proxima-nova\, &quot\;Helvetica Neue&quot\;\, Helvetica\, Arial\, sans-serif\; font-size: 16px\; text-align: center\;">largest</strong><span style="color: rgb(68\, 68\, 68)\; text-align: center\;">&nbsp\;developments in Florida<br />\n<br />\n<strong>Panelist:</strong></span><br />\nOCPS Board Member Pamela Gould</span></span><br />\n<span style="font-family: arial\; font-size: 14px\;">Ken Kupp\, Partner at Boyd Development&nbsp\;</span><br />\n<span style="font-family:arial\;"><span style="font-size:14px\;">OC Property Appraiser Amy Mercado<br />\nOC Assistant County Administrator Chris Testerman<br />\n<br />\n<strong>Moderator:</strong></span></span><br />\n<span style="font-family:times new roman\,serif\;"><span style="font-size:12.0pt\;"><span style="font-size:14px\;"><span style="font-family:arial\;">OC Commissioner Nicole Wilson</span></span> </span></span><br />\n<br />\n<br />\n<span style="font-family:arial\;"><span style="font-size:12px\;"><span style="color:black\;">West Orange Chamber of Commerce will adhere to CDC guidelines to deliver a safe event. Face masks must be worn while not actively eating or drinking. Socially distancing seating will be provided\; six guests per table. Sanitation stations throughout the event.</span></span></span>
LOCATION:The Rosen Event Center on the Rosen JCC Campus 11184 South Apopka Vineland Road Orlando\, FL 32836
UID:e.747.2305
SEQUENCE:3
DTSTAMP:20260424T213510Z
URL:https://biz.wochamber.com/events/details/horizon-west-report-9-9-21-2305
END:VEVENT

END:VCALENDAR
