BEGIN:VCALENDAR
VERSION:2.0
PRODID:-//ChamberMaster//Event Calendar 2.0//EN
METHOD:PUBLISH
X-PUBLISHED-TTL:P3D
REFRESH-INTERVAL:P3D
CALSCALE:GREGORIAN
BEGIN:VEVENT
DTSTART:20230308T210000Z
DTEND:20230308T230000Z
X-MICROSOFT-CDO-ALLDAYEVENT:FALSE
SUMMARY:Celebrating Extraordinary Women 3/8/23- Sold Out
DESCRIPTION:This event is SOLD OUT- No admissions will be sold at the door\n\n\n\nBe inspired\, empowered\, and connect! Listen to the experiences of some of West Orange County's leading businesswomen. Each panelist has a unique perspective to share. Attendees can strengthen relationships through conversation and networking in this engaging event.\n\n\n\nOur Amazing Panel of Guest Speakers\n\nCarolyn Fennell\, Senior Director\, Public Affairs and Community Relations\, Greater Orlando Aviation Authority\n\nLaura Kelley\, Executive Director\, Central Florida Expressway Authority\n\nCasandra Matej\, President and CEO\, Visit Orlando\n\nKarem Rodriguez\, Owner of The Modern Host
X-ALT-DESC;FMTTYPE=text/html:This event is SOLD OUT- No admissions will be sold at the door<br />\n<br />\nBe inspired\, empowered\, and connect! Listen to the experiences of some of West Orange County&#39\;s leading businesswomen. Each panelist has a unique perspective to share. Attendees can strengthen relationships through conversation and networking in this engaging event.<br />\n<br />\nOur Amazing Panel of Guest Speakers<br />\nCarolyn Fennell\, Senior Director\, Public Affairs and Community Relations\, Greater Orlando Aviation Authority<br />\nLaura Kelley\, Executive Director\, Central Florida Expressway Authority<br />\nCasandra Matej\, President and CEO\, Visit Orlando<br />\nKarem Rodriguez\, Owner of The Modern Host<br />\n<br />\n<br />\n<br />\n<br />\n&nbsp\;
LOCATION:Windermere Town Hall 520 Main Street Windermere\, FL 34786
UID:e.747.2731
SEQUENCE:3
DTSTAMP:20260421T170554Z
URL:https://biz.wochamber.com/events/details/celebrating-extraordinary-women-3-8-23-sold-out-2731
END:VEVENT

END:VCALENDAR
