BEGIN:VCALENDAR
VERSION:2.0
PRODID:-//ChamberMaster//Event Calendar 2.0//EN
METHOD:PUBLISH
X-PUBLISHED-TTL:P3D
REFRESH-INTERVAL:P3D
CALSCALE:GREGORIAN
BEGIN:VEVENT
DTSTART:20260924T213000Z
DTEND:20260924T233000Z
X-MICROSOFT-CDO-ALLDAYEVENT:FALSE
SUMMARY:Business After Hours | We Are Winter Garden 09.24.2026
DESCRIPTION:Enjoy hors d'oeuvres and refreshments while meeting chamber professionals and unwinding after your busy day! This is the perfect opportunity to make new business contacts\, strengthen existing relationships\, and discover ways to get involved. Don't forget to bring your business cards!
X-ALT-DESC;FMTTYPE=text/html:<div>Enjoy hors d&#39\;oeuvres and refreshments while meeting chamber professionals and unwinding after your busy day! This is the perfect opportunity to make new business contacts\, strengthen existing relationships\, and discover ways to get involved. Don&#39\;t forget to bring your business cards!<br />\n<br />\n&nbsp\;</div>\n
LOCATION:
UID:e.747.3190
SEQUENCE:3
DTSTAMP:20260425T113255Z
URL:https://biz.wochamber.com/events/details/business-after-hours-we-are-winter-garden-09-24-2026-3190
END:VEVENT

END:VCALENDAR
