BEGIN:VCALENDAR
VERSION:2.0
PRODID:-//ChamberMaster//Event Calendar 2.0//EN
METHOD:PUBLISH
X-PUBLISHED-TTL:P3D
REFRESH-INTERVAL:P3D
CALSCALE:GREGORIAN
BEGIN:VEVENT
DTSTART:20230216T223000Z
DTEND:20230217T000000Z
X-MICROSOFT-CDO-ALLDAYEVENT:FALSE
SUMMARY:Business After Hours 02/16/23
DESCRIPTION:We invite you to attend our next Business After Hours at Shannon Till- State Farm Insurance.  Forge new relationships\, engage with fellow members and connect with local leaders while enjoying light bites\, beer and wine.  Door prizes\, be sure to register today!
X-ALT-DESC;FMTTYPE=text/html:<span style="font-size:16px\;">We invite you to attend our next Business After Hours at Shannon Till- State Farm Insurance.&nbsp\; Forge&nbsp\;new relationships\, engage with fellow members and connect with local leaders while enjoying light bites\, beer and wine.&nbsp\; Door prizes\, be sure to register today!</span><br />\n<br />\n<br />\n&nbsp\;
LOCATION:Shannon Till - State Farm Insurance 1620 Daniels Rd Ste 110 Winter Garden\, FL 34787-5604
UID:e.747.2730
SEQUENCE:3
DTSTAMP:20260424T122339Z
URL:https://biz.wochamber.com/events/details/business-after-hours-02-16-23-2730
END:VEVENT

END:VCALENDAR
