BEGIN:VCALENDAR
VERSION:2.0
PRODID:-//ChamberMaster//Event Calendar 2.0//EN
METHOD:PUBLISH
X-PUBLISHED-TTL:P3D
REFRESH-INTERVAL:P3D
CALSCALE:GREGORIAN
BEGIN:VEVENT
DTSTART:20260814T113000Z
DTEND:20260814T131000Z
X-MICROSOFT-CDO-ALLDAYEVENT:FALSE
SUMMARY:Brewing Up Business | Home State Brewing Horizon West 8.14.2026
DESCRIPTION:Network with other Chamber Members at Filigree Coffee and Home State Brewing Co. Whether you are a Hamlin business\, a Horizon West business\, or any other area business in West Orange\, this event is open to all West Orange Chamber Commerce members.  LIMITED CAPACITY\n\n\n\nDue to limited time and space\, we ask for only one representative from a company or organization.  \n\n\n\nBe the early bird order and pay for your coffee ahead of time!
X-ALT-DESC;FMTTYPE=text/html:<span style="font-size:18px\;">Network with other Chamber Members at Filigree Coffee and Home State Brewing Co. Whether you are a Hamlin business\, a Horizon West business\, or any other area business in West Orange\, this event is open to all West Orange Chamber Commerce members.&nbsp\; LIMITED CAPACITY</span><br />\n<br />\nDue to limited time and space\, we ask for only one representative from a company or organization.&nbsp\;&nbsp\;<br />\n<br />\n<span style="font-size:18px\;"><a href="https://www.filigreecoffee.com/#WBSHXQMLELBSRLQGQ2VZGWYZ"><u><span style="color:#0000CD\;">Be the early bird order and pay for your coffee ahead of time!</span></u></a></span><br />\n&nbsp\;
LOCATION:Home State Brewing Co 16016 New Independence Pkwy Ste 100 Winter Garden\, FL 34787-8153
UID:e.747.3186
SEQUENCE:3
DTSTAMP:20260425T115550Z
URL:https://biz.wochamber.com/events/details/brewing-up-business-home-state-brewing-horizon-west-8-14-2026-3186
END:VEVENT

END:VCALENDAR
