BEGIN:VCALENDAR
VERSION:2.0
PRODID:-//ChamberMaster//Event Calendar 2.0//EN
METHOD:PUBLISH
X-PUBLISHED-TTL:P3D
REFRESH-INTERVAL:P3D
CALSCALE:GREGORIAN
BEGIN:VEVENT
DTSTART:20250113T133000Z
DTEND:20250113T193000Z
X-MICROSOFT-CDO-ALLDAYEVENT:FALSE
SUMMARY:ANNUAL GOLF CLASSIC - 1/13/2025- Sold out
DESCRIPTION:Polish up those clubs and get ready to join us on the course at the annual West Orange Chamber Golf Classic! This scramble style tournament is fun for everyone and is the ideal setting for business leaders to bring their best clients\, top prospects or office staff for a lively afternoon of relationship building on the fairway. \n\n\n\nYour tournament ticket includes: Green and cart fees\, specialty sponsor holes with games and goodies\, practice balls before we start\, tournament swag\, chance-to-win ticket\,  two drink tickets and lunch with awards ceremony all during your exciting\, fun-filled day of golf and course contests!\n\n\n\nShotgun Start at 9amam\n\n(Registration and Range Balls at 7:30 am)\n\n1pm Luncheon & Awards
X-ALT-DESC;FMTTYPE=text/html:Polish up those clubs and get ready to join us on the course at the annual West Orange Chamber Golf Classic! This scramble style tournament is fun for everyone&nbsp\;and is the ideal setting for business leaders to bring their best clients\, top prospects or office staff for a lively afternoon of relationship building on the fairway.&nbsp\;<br />\n<br />\nYour tournament ticket includes: Green and cart fees\,&nbsp\;specialty sponsor holes with games and goodies\, practice balls before we start\, tournament swag\, chance-to-win ticket\,&nbsp\; two drink tickets and lunch with awards ceremony all during your exciting\, fun-filled day of golf and course&nbsp\;contests!<br />\n<br />\nShotgun Start at 9amam<br />\n(Registration and Range Balls at 7:30 am)<br />\n1pm Luncheon &amp\; Awards<br />\n<br />\n&nbsp\;
LOCATION:West Orange Country Club 3300 West Orange Country Club Dr. Winter Garden\, FL 34787
UID:e.747.2791
SEQUENCE:3
DTSTAMP:20260423T194650Z
URL:https://biz.wochamber.com/events/details/annual-golf-classic-1-13-2025-sold-out-2791
END:VEVENT

END:VCALENDAR
